BEGIN:VCALENDAR
VERSION:2.0
PRODID:-//The Mindfulness Society of Canada - ECPv5.10.0//NONSGML v1.0//EN
CALSCALE:GREGORIAN
METHOD:PUBLISH
X-WR-CALNAME:The Mindfulness Society of Canada
X-ORIGINAL-URL:https://themindfulnesssociety.ca
X-WR-CALDESC:Events for The Mindfulness Society of Canada
BEGIN:VTIMEZONE
TZID:America/Halifax
BEGIN:DAYLIGHT
TZOFFSETFROM:-0400
TZOFFSETTO:-0300
TZNAME:ADT
DTSTART:20220313T060000
END:DAYLIGHT
BEGIN:STANDARD
TZOFFSETFROM:-0300
TZOFFSETTO:-0400
TZNAME:AST
DTSTART:20221106T050000
END:STANDARD
END:VTIMEZONE
BEGIN:VEVENT
DTSTART;VALUE=DATE:20220703
DTEND;VALUE=DATE:20220704
DTSTAMP:20260426T002152
CREATED:20220616T231948Z
LAST-MODIFIED:20220616T231948Z
UID:363-1656806400-1656892799@themindfulnesssociety.ca
SUMMARY:Closed for Canada Day Long Weekend
DESCRIPTION:Share this :
URL:https://themindfulnesssociety.ca/event/closed-for-canada-day-long-weekend/
END:VEVENT
END:VCALENDAR