BEGIN:VCALENDAR
VERSION:2.0
PRODID:-//The Mindfulness Society of Canada - ECPv5.10.0//NONSGML v1.0//EN
CALSCALE:GREGORIAN
METHOD:PUBLISH
X-WR-CALNAME:The Mindfulness Society of Canada
X-ORIGINAL-URL:https://themindfulnesssociety.ca
X-WR-CALDESC:Events for The Mindfulness Society of Canada
BEGIN:VTIMEZONE
TZID:America/Halifax
BEGIN:DAYLIGHT
TZOFFSETFROM:-0400
TZOFFSETTO:-0300
TZNAME:ADT
DTSTART:20220313T060000
END:DAYLIGHT
BEGIN:STANDARD
TZOFFSETFROM:-0300
TZOFFSETTO:-0400
TZNAME:AST
DTSTART:20221106T050000
END:STANDARD
END:VTIMEZONE
BEGIN:VEVENT
DTSTART;TZID=America/Halifax:20220424T193000
DTEND;TZID=America/Halifax:20220424T203000
DTSTAMP:20260424T043026
CREATED:20220313T234532Z
LAST-MODIFIED:20220417T143050Z
UID:299-1650828600-1650832200@themindfulnesssociety.ca
SUMMARY:Mindfulness and Pain\, with Vice-Chair Salima Pirani
DESCRIPTION:If you have battled with illness\, pain and injury\, tune in as Salima sheds light on the topic. She’ll also share how we overcome and learn from pain and illness when we direct our attention skillfully and change our relationship with them. \nShare this :
URL:https://themindfulnesssociety.ca/event/closed-for-easter-sunday-have-a-happy-long-weekend-everyone/
LOCATION:Zoom Meeting\, Canada
END:VEVENT
END:VCALENDAR