BEGIN:VCALENDAR
VERSION:2.0
PRODID:-//The Mindfulness Society of Canada - ECPv5.10.0//NONSGML v1.0//EN
CALSCALE:GREGORIAN
METHOD:PUBLISH
X-WR-CALNAME:The Mindfulness Society of Canada
X-ORIGINAL-URL:https://themindfulnesssociety.ca
X-WR-CALDESC:Events for The Mindfulness Society of Canada
BEGIN:VTIMEZONE
TZID:America/Halifax
BEGIN:DAYLIGHT
TZOFFSETFROM:-0400
TZOFFSETTO:-0300
TZNAME:ADT
DTSTART:20220313T060000
END:DAYLIGHT
BEGIN:STANDARD
TZOFFSETFROM:-0300
TZOFFSETTO:-0400
TZNAME:AST
DTSTART:20221106T050000
END:STANDARD
END:VTIMEZONE
BEGIN:VEVENT
DTSTART;TZID=America/Halifax:20220619T193000
DTEND;TZID=America/Halifax:20220619T203000
DTSTAMP:20260425T211717
CREATED:20220525T225755Z
LAST-MODIFIED:20220525T225755Z
UID:356-1655667000-1655670600@themindfulnesssociety.ca
SUMMARY:Closed For Father's Day
DESCRIPTION:Happy Father’s Day!  We will return next Sunday with more amazing and free content! \nShare this :
URL:https://themindfulnesssociety.ca/event/closed-for-fathers-day/
END:VEVENT
END:VCALENDAR