BEGIN:VCALENDAR
VERSION:2.0
PRODID:-//The Mindfulness Society of Canada - ECPv5.10.0//NONSGML v1.0//EN
CALSCALE:GREGORIAN
METHOD:PUBLISH
X-WR-CALNAME:The Mindfulness Society of Canada
X-ORIGINAL-URL:https://themindfulnesssociety.ca
X-WR-CALDESC:Events for The Mindfulness Society of Canada
BEGIN:VTIMEZONE
TZID:America/Halifax
BEGIN:DAYLIGHT
TZOFFSETFROM:-0400
TZOFFSETTO:-0300
TZNAME:ADT
DTSTART:20220313T060000
END:DAYLIGHT
BEGIN:STANDARD
TZOFFSETFROM:-0300
TZOFFSETTO:-0400
TZNAME:AST
DTSTART:20221106T050000
END:STANDARD
END:VTIMEZONE
BEGIN:VEVENT
DTSTART;TZID=America/Halifax:20220313T093000
DTEND;TZID=America/Halifax:20220313T103000
DTSTAMP:20260420T102624
CREATED:20220126T221946Z
LAST-MODIFIED:20220126T221946Z
UID:277-1647163800-1647167400@themindfulnesssociety.ca
SUMMARY:Mindfulness Practices for Families and Children\, with Associate Instructor Rhoda Wong
DESCRIPTION:Dr. Rhoda Wong has over 10 years of experience in researching and teaching mindfulness to children and parents. In this short talk\, she will share some engaging and easy mindfulness practices and useful tips for promoting the wellbeing of a family. \nShare this :
URL:https://themindfulnesssociety.ca/event/mindfulness-practices-for-families-and-children-with-associate-instructor-rhoda-wong/
LOCATION:Zoom Meeting\, Canada
END:VEVENT
END:VCALENDAR