BEGIN:VCALENDAR
VERSION:2.0
PRODID:-//The Mindfulness Society of Canada - ECPv5.10.0//NONSGML v1.0//EN
CALSCALE:GREGORIAN
METHOD:PUBLISH
X-WR-CALNAME:The Mindfulness Society of Canada
X-ORIGINAL-URL:https://themindfulnesssociety.ca
X-WR-CALDESC:Events for The Mindfulness Society of Canada
BEGIN:VTIMEZONE
TZID:America/Halifax
BEGIN:DAYLIGHT
TZOFFSETFROM:-0400
TZOFFSETTO:-0300
TZNAME:ADT
DTSTART:20220313T060000
END:DAYLIGHT
BEGIN:STANDARD
TZOFFSETFROM:-0300
TZOFFSETTO:-0400
TZNAME:AST
DTSTART:20221106T050000
END:STANDARD
END:VTIMEZONE
BEGIN:VEVENT
DTSTART;TZID=America/Halifax:20220605T193000
DTEND;TZID=America/Halifax:20220605T202000
DTSTAMP:20260426T001715
CREATED:20220514T142426Z
LAST-MODIFIED:20220514T142455Z
UID:350-1654457400-1654460400@themindfulnesssociety.ca
SUMMARY:Successful Breathing Meditation with Associate Instructor Susie Kaplan
DESCRIPTION:There are many approaches to breathing meditation. Some will work for you\, and some won’t.  Susie will lead us in exploring the possibilities and approaches you may not have been aware of and guide us through a valuable breathing meditation for balance\, peace and our mindfulness practice. \nShare this :
URL:https://themindfulnesssociety.ca/event/successful-breathing-meditation-with-associate-instructor-susie-kaplan/
LOCATION:Zoom Meeting\, Canada
END:VEVENT
END:VCALENDAR