BEGIN:VCALENDAR
VERSION:2.0
PRODID:-//The Mindfulness Society of Canada - ECPv5.10.0//NONSGML v1.0//EN
CALSCALE:GREGORIAN
METHOD:PUBLISH
X-WR-CALNAME:The Mindfulness Society of Canada
X-ORIGINAL-URL:https://themindfulnesssociety.ca
X-WR-CALDESC:Events for The Mindfulness Society of Canada
BEGIN:VTIMEZONE
TZID:America/Toronto
BEGIN:DAYLIGHT
TZOFFSETFROM:-0500
TZOFFSETTO:-0400
TZNAME:EDT
DTSTART:20240310T070000
END:DAYLIGHT
BEGIN:STANDARD
TZOFFSETFROM:-0400
TZOFFSETTO:-0500
TZNAME:EST
DTSTART:20241103T060000
END:STANDARD
END:VTIMEZONE
BEGIN:VEVENT
DTSTART;TZID=America/Toronto:20240922T200000
DTEND;TZID=America/Toronto:20240922T213000
DTSTAMP:20260423T061619
CREATED:20240822T091955Z
LAST-MODIFIED:20240822T092101Z
UID:674-1727035200-1727040600@themindfulnesssociety.ca
SUMMARY:Thailand Master Auntie Aoy
DESCRIPTION:We are blessed to receive Mindfulness teachings from Ajahn Auntie Aoy\, who is one of LP Pramote’s very few designated assistant teachers. And what’s better? She speaks English rather well! Join us on hopefully the first of many of such auspicious occasions. Ajahn Aoy is funny\, relatable and helps show us how the practice is something anyone can succeed in if we put in the time.
URL:https://themindfulnesssociety.ca/event/thailand-master-ajahn-aoy/
LOCATION:Zoom Meeting\, Canada
END:VEVENT
END:VCALENDAR