BEGIN:VCALENDAR
VERSION:2.0
PRODID:-//The Mindfulness Society of Canada - ECPv5.10.0//NONSGML v1.0//EN
CALSCALE:GREGORIAN
METHOD:PUBLISH
X-WR-CALNAME:The Mindfulness Society of Canada
X-ORIGINAL-URL:https://themindfulnesssociety.ca
X-WR-CALDESC:Events for The Mindfulness Society of Canada
BEGIN:VTIMEZONE
TZID:America/Toronto
BEGIN:DAYLIGHT
TZOFFSETFROM:-0500
TZOFFSETTO:-0400
TZNAME:EDT
DTSTART:20240310T070000
END:DAYLIGHT
BEGIN:STANDARD
TZOFFSETFROM:-0400
TZOFFSETTO:-0500
TZNAME:EST
DTSTART:20241103T060000
END:STANDARD
END:VTIMEZONE
BEGIN:VEVENT
DTSTART;TZID=America/Toronto:20241124T200000
DTEND;TZID=America/Toronto:20241124T210000
DTSTAMP:20260423T171344
CREATED:20240823T012856Z
LAST-MODIFIED:20240823T012927Z
UID:696-1732478400-1732482000@themindfulnesssociety.ca
SUMMARY:Guided Metta Meditation with Associate Instructor Rhonda
DESCRIPTION:This week bright and shiny Rhonda will lead us in Metta\, Loving-Kindness and friendliness to all that enters our space\, and that includes Metta for all of you that join .
URL:https://themindfulnesssociety.ca/event/guided-metta-meditation-with-associate-instructor-rhonda/
LOCATION:Zoom Meeting\, Canada
END:VEVENT
END:VCALENDAR