BEGIN:VCALENDAR
VERSION:2.0
PRODID:-//The Mindfulness Society of Canada - ECPv5.10.0//NONSGML v1.0//EN
CALSCALE:GREGORIAN
METHOD:PUBLISH
X-WR-CALNAME:The Mindfulness Society of Canada
X-ORIGINAL-URL:https://themindfulnesssociety.ca
X-WR-CALDESC:Events for The Mindfulness Society of Canada
BEGIN:VTIMEZONE
TZID:America/Toronto
BEGIN:DAYLIGHT
TZOFFSETFROM:-0500
TZOFFSETTO:-0400
TZNAME:EDT
DTSTART:20250309T070000
END:DAYLIGHT
BEGIN:STANDARD
TZOFFSETFROM:-0400
TZOFFSETTO:-0500
TZNAME:EST
DTSTART:20251102T060000
END:STANDARD
END:VTIMEZONE
BEGIN:VEVENT
DTSTART;TZID=America/Toronto:20250105T190000
DTEND;TZID=America/Toronto:20250105T203000
DTSTAMP:20260423T184813
CREATED:20241213T143124Z
LAST-MODIFIED:20241213T143124Z
UID:721-1736103600-1736109000@themindfulnesssociety.ca
SUMMARY:Why Practice Mindfulness - A Deep Dive with Monk Ajahn Krit Nimmalo from Thailand
DESCRIPTION:Our Venerable Advisor to the Society\, Monk Ajahn Krit Nimmalo will be giving a talk to start our new year from Thailand\, with Jess translating. This is always an auspicious event to be a part of\, and you are encouraged to invite everyone and share www.themindfulnesssociety.ca on social media to sign up (Only registered members permitted – do not share the event link). Take note the time is 7pm ET\,. and we will resume with the usual 8pm for Mindfulness 401 next week. What a way to start the year\, and introduce our annual mindfulness course! \nPlease email us at metta@themindfulnesssociety.ca if you would like to ask A.Krit a question about your practice\, or about Buddhist principles.
URL:https://themindfulnesssociety.ca/event/why-practice-mindfulness-a-deep-dive-with-monk-ajahn-krit-nimmalo-from-thailand/
LOCATION:Zoom Meeting\, Canada
END:VEVENT
END:VCALENDAR