BEGIN:VCALENDAR
VERSION:2.0
PRODID:-//The Mindfulness Society of Canada - ECPv5.10.0//NONSGML v1.0//EN
CALSCALE:GREGORIAN
METHOD:PUBLISH
X-WR-CALNAME:The Mindfulness Society of Canada
X-ORIGINAL-URL:https://themindfulnesssociety.ca
X-WR-CALDESC:Events for The Mindfulness Society of Canada
BEGIN:VTIMEZONE
TZID:America/Toronto
BEGIN:DAYLIGHT
TZOFFSETFROM:-0500
TZOFFSETTO:-0400
TZNAME:EDT
DTSTART:20250309T070000
END:DAYLIGHT
BEGIN:STANDARD
TZOFFSETFROM:-0400
TZOFFSETTO:-0500
TZNAME:EST
DTSTART:20251102T060000
END:STANDARD
END:VTIMEZONE
BEGIN:VEVENT
DTSTART;TZID=America/Toronto:20250706T200000
DTEND;TZID=America/Toronto:20250706T213000
DTSTAMP:20260424T001508
CREATED:20250523T144541Z
LAST-MODIFIED:20250523T144541Z
UID:741-1751832000-1751837400@themindfulnesssociety.ca
SUMMARY:Vipassana with Monk Master Ajahn Krit Nimmalo
DESCRIPTION:We are honoured once again to have our Mindfulness Master and Mindfulness Society Advisor Ajahn Krit Nimmalo teaching us the way to wisdom and liberation from his monastery in Thailand\, with Jess translating.
URL:https://themindfulnesssociety.ca/event/vipassana-with-monk-master-ajahn-krit-nimmalo/
END:VEVENT
END:VCALENDAR