BEGIN:VCALENDAR
VERSION:2.0
PRODID:-//The Mindfulness Society of Canada - ECPv5.10.0//NONSGML v1.0//EN
CALSCALE:GREGORIAN
METHOD:PUBLISH
X-WR-CALNAME:The Mindfulness Society of Canada
X-ORIGINAL-URL:https://themindfulnesssociety.ca
X-WR-CALDESC:Events for The Mindfulness Society of Canada
BEGIN:VTIMEZONE
TZID:America/Toronto
BEGIN:DAYLIGHT
TZOFFSETFROM:-0500
TZOFFSETTO:-0400
TZNAME:EDT
DTSTART:20250309T070000
END:DAYLIGHT
BEGIN:STANDARD
TZOFFSETFROM:-0400
TZOFFSETTO:-0500
TZNAME:EST
DTSTART:20251102T060000
END:STANDARD
END:VTIMEZONE
BEGIN:VEVENT
DTSTART;TZID=America/Toronto:20250720T200000
DTEND;TZID=America/Toronto:20250720T210000
DTSTAMP:20260424T020611
CREATED:20250523T145040Z
LAST-MODIFIED:20250525T213830Z
UID:743-1753041600-1753045200@themindfulnesssociety.ca
SUMMARY:How Healing Work can Support Mindfulness with Salima Pirani
DESCRIPTION:Vice-Chair Salima Pirani is a well-known master healer and leader of a large reiki community\, teaching healing techniques and psychic skills. As a long time mindfulness practitioner\, she shares how healing work can support the essential practice of mindfulness and vice versa
URL:https://themindfulnesssociety.ca/event/how-healing-work-can-support-mindfulness-with-salima-pirani/
END:VEVENT
END:VCALENDAR