BEGIN:VCALENDAR
VERSION:2.0
PRODID:-//The Mindfulness Society of Canada - ECPv5.10.0//NONSGML v1.0//EN
CALSCALE:GREGORIAN
METHOD:PUBLISH
X-WR-CALNAME:The Mindfulness Society of Canada
X-ORIGINAL-URL:https://themindfulnesssociety.ca
X-WR-CALDESC:Events for The Mindfulness Society of Canada
BEGIN:VTIMEZONE
TZID:America/Halifax
BEGIN:DAYLIGHT
TZOFFSETFROM:-0400
TZOFFSETTO:-0300
TZNAME:ADT
DTSTART:20220313T060000
END:DAYLIGHT
BEGIN:STANDARD
TZOFFSETFROM:-0300
TZOFFSETTO:-0400
TZNAME:AST
DTSTART:20221106T050000
END:STANDARD
END:VTIMEZONE
BEGIN:VEVENT
DTSTART;TZID=America/Halifax:20220904T080000
DTEND;TZID=America/Halifax:20220904T170000
DTSTAMP:20260423T044826
CREATED:20220819T204405Z
LAST-MODIFIED:20220819T204405Z
UID:404-1662278400-1662310800@themindfulnesssociety.ca
SUMMARY:Closed for Labour Day Weekend in Canada! Happy Back to School!
DESCRIPTION:We are always learning\, whether in school or not. So let’s learn what we are here to\, and learn from the best.
URL:https://themindfulnesssociety.ca/event/closed-for-labour-day-weekend-in-canada-happy-back-to-school/
END:VEVENT
BEGIN:VEVENT
DTSTART;TZID=America/Halifax:20220911T193000
DTEND;TZID=America/Halifax:20220911T203000
DTSTAMP:20260423T044826
CREATED:20220811T182134Z
LAST-MODIFIED:20220829T213706Z
UID:381-1662924600-1662928200@themindfulnesssociety.ca
SUMMARY:Three Powerful Benefits of OM
DESCRIPTION:Our Vice-Chair Salima has been holding OM Sundays on and off for many years\, guiding us in various meditations for healing\, peace and wisdom.  Well\, this Sunday at at 7:30pm\, she actually will talk about and guide us using OM itself!  Om can be of many benefits and Salima will guide us how to use it for three important purposes.
URL:https://themindfulnesssociety.ca/event/three-powerful-benefits-of-ohm/
LOCATION:Zoom Meeting\, Canada
END:VEVENT
BEGIN:VEVENT
DTSTART;TZID=America/Halifax:20220918T193000
DTEND;TZID=America/Halifax:20220918T201500
DTSTAMP:20260423T044826
CREATED:20220811T182509Z
LAST-MODIFIED:20220829T210949Z
UID:383-1663529400-1663532100@themindfulnesssociety.ca
SUMMARY:Karen's Sangha
DESCRIPTION:Associate Instructor and Board Member Karen holds morning meditations on Zoom\, which have become known as her Sangha Meetings.  Now she brings it to The Mindfulness Society Sunday night!  She will start and end with a few teachings and tips\, and give us time in the middle for silent meditation together.  Total: 45 minutes. Meditating in a community of quality people can be very helpful on many levels. Join Karen’s Sangha at the Mindfulness Society!
URL:https://themindfulnesssociety.ca/event/karens-sangha/
LOCATION:Zoom Meeting\, Canada
END:VEVENT
BEGIN:VEVENT
DTSTART;TZID=America/Halifax:20220925T080000
DTEND;TZID=America/Halifax:20220925T170000
DTSTAMP:20260423T044826
CREATED:20220819T204926Z
LAST-MODIFIED:20220819T205013Z
UID:406-1664092800-1664125200@themindfulnesssociety.ca
SUMMARY:We Are Closed for The High Religious Holidays
DESCRIPTION:Time for repent and forgiveness!  We are also closed for the beginning of Ramadan\, Easter\, and most Religious holidays when they fall on the weekend.
URL:https://themindfulnesssociety.ca/event/we-closed-for-the-high-religious-holidays/
END:VEVENT
END:VCALENDAR