BEGIN:VCALENDAR
VERSION:2.0
PRODID:-//The Mindfulness Society of Canada - ECPv5.10.0//NONSGML v1.0//EN
CALSCALE:GREGORIAN
METHOD:PUBLISH
X-WR-CALNAME:The Mindfulness Society of Canada
X-ORIGINAL-URL:https://themindfulnesssociety.ca
X-WR-CALDESC:Events for The Mindfulness Society of Canada
BEGIN:VTIMEZONE
TZID:America/Toronto
BEGIN:DAYLIGHT
TZOFFSETFROM:-0500
TZOFFSETTO:-0400
TZNAME:EDT
DTSTART:20240310T070000
END:DAYLIGHT
BEGIN:STANDARD
TZOFFSETFROM:-0400
TZOFFSETTO:-0500
TZNAME:EST
DTSTART:20241103T060000
END:STANDARD
END:VTIMEZONE
BEGIN:VEVENT
DTSTART;TZID=America/Toronto:20241006T200000
DTEND;TZID=America/Toronto:20241006T210000
DTSTAMP:20260423T141146
CREATED:20240822T093249Z
LAST-MODIFIED:20240919T014759Z
UID:680-1728244800-1728248400@themindfulnesssociety.ca
SUMMARY:Mindful Tips for Difficult Relationships (and guided meditation practices) with Associate Instructor Karen
DESCRIPTION:Very useful advice from Karen this week on a topic that applies to all of us: difficult relationships. Whether it be our partner\, children\, in-laws\, friends or colleagues it is something we all have in common. We will be sure to benefit from Karen’s experiences and lessons that she has graciously put together as tips.
URL:https://themindfulnesssociety.ca/event/four-mindful-tips-for-difficult-relationships-with-associate-instructor-karen/
LOCATION:Zoom Meeting\, Canada
END:VEVENT
BEGIN:VEVENT
DTSTART;VALUE=DATE:20241013
DTEND;VALUE=DATE:20241014
DTSTAMP:20260423T141146
CREATED:20240822T100301Z
LAST-MODIFIED:20240822T100301Z
UID:686-1728777600-1728863999@themindfulnesssociety.ca
SUMMARY:Closed for Thanksgiving
DESCRIPTION:
URL:https://themindfulnesssociety.ca/event/closed-for-thanksgiving/
END:VEVENT
BEGIN:VEVENT
DTSTART;TZID=America/Toronto:20241020T200000
DTEND;TZID=America/Toronto:20241020T210000
DTSTAMP:20260423T141146
CREATED:20240822T094904Z
LAST-MODIFIED:20240822T151923Z
UID:682-1729454400-1729458000@themindfulnesssociety.ca
SUMMARY:The Mystery of Mysery with Chair Jess Koffman
DESCRIPTION:The Buddha said the Truth is Suffering. Many belive this as negative and would prefer to have a positive approach to life.  Join Jess as he delves into the age old yet vastly misunderstood topic of “Dukkha”: What is the nature of suffering\, why we do we tend to cycle around in painful thoughts and emotional patterns and how to we find our way out.
URL:https://themindfulnesssociety.ca/event/why-you-still-suffer-with-chair-jess-koffman/
LOCATION:Zoom Meeting\, Canada
END:VEVENT
BEGIN:VEVENT
DTSTART;TZID=America/Toronto:20241027T200000
DTEND;TZID=America/Toronto:20241027T210000
DTSTAMP:20260423T141146
CREATED:20240822T100121Z
LAST-MODIFIED:20240822T100121Z
UID:684-1730059200-1730062800@themindfulnesssociety.ca
SUMMARY:An Interview with Mindfulness Scholar Rhoda\, PhD
DESCRIPTION:Our Committee Chair Jenn Oostyen continues her interview series\, this time to help us get to know Dr. Rhoda a little better. Dr. Rhoda has lived in Thich Nhat Hanh’ famed Plum Village\, complete her PhD in studies of Mindfulness and its teachers\, published books and articles promoting their benefits\, and has navigated the important yet difficult process of bringing Meditation and Mindfulness to education boards and school programs.  There is so much to learn and many interesting experiences she will share. Please send your questions to Jenn@themindfulnesssociety.ca. There  may be live opportunities to ask Dr. Rhoda to ask as well.
URL:https://themindfulnesssociety.ca/event/an-interview-with-mindfulness-scholar-rhoda-phd/
LOCATION:Zoom Meeting\, Canada
END:VEVENT
END:VCALENDAR