BEGIN:VCALENDAR
VERSION:2.0
PRODID:-//The Mindfulness Society of Canada - ECPv5.10.0//NONSGML v1.0//EN
CALSCALE:GREGORIAN
METHOD:PUBLISH
X-WR-CALNAME:The Mindfulness Society of Canada
X-ORIGINAL-URL:https://themindfulnesssociety.ca
X-WR-CALDESC:Events for The Mindfulness Society of Canada
BEGIN:VTIMEZONE
TZID:America/Toronto
BEGIN:DAYLIGHT
TZOFFSETFROM:-0500
TZOFFSETTO:-0400
TZNAME:EDT
DTSTART:20240310T070000
END:DAYLIGHT
BEGIN:STANDARD
TZOFFSETFROM:-0400
TZOFFSETTO:-0500
TZNAME:EST
DTSTART:20241103T060000
END:STANDARD
END:VTIMEZONE
BEGIN:VEVENT
DTSTART;TZID=America/Toronto:20241201T200000
DTEND;TZID=America/Toronto:20241201T210000
DTSTAMP:20260423T171408
CREATED:20240823T013245Z
LAST-MODIFIED:20240823T013245Z
UID:698-1733083200-1733086800@themindfulnesssociety.ca
SUMMARY:Tales of Wisdom with Associate Instructor Susanna
DESCRIPTION:Susanna will continue her stories of great interest and valuable wisdom from some of the great being in the history of our planet. Her experiences as a practitioner and as an actor bring life to these unique and should not miss events!
URL:https://themindfulnesssociety.ca/event/tales-of-wisdom-with-associate-instructor-susanna-3/
LOCATION:Zoom Meeting\, Canada
END:VEVENT
BEGIN:VEVENT
DTSTART;TZID=America/Toronto:20241208T200000
DTEND;TZID=America/Toronto:20241208T210000
DTSTAMP:20260423T171408
CREATED:20240823T013958Z
LAST-MODIFIED:20241028T004611Z
UID:700-1733688000-1733691600@themindfulnesssociety.ca
SUMMARY:End of Year Event - The Ask Salima & Jess Anything Party!
DESCRIPTION:All the instructors and board will attend this end of year Zoom party and would love to hear from you. In fact\, you get the chance to ask Jess & Salima ANYTHING! Get to know us better by asking spiritual (Salima\, have you seen a god?) or ordinary questions about our lives (Jess what’s your favourite cookie?)\, and also there will be time to give us some feedback (Hopefully some of which is praise! Go easy on us\, we are volunteers with very limited time and donation resources. Any recommendations that imply more responsibilities or funds will require more volunteers and more money!) \nFollowing this event\, MSC will break for 3 weeks and return January 5th with Great Monk Phra Ajahn Krit   and then our annual free Mindfulness lessons with each teacher\, Mindfulness 401.
URL:https://themindfulnesssociety.ca/event/msc-end-of-year-event/
LOCATION:Zoom Meeting\, Canada
END:VEVENT
END:VCALENDAR