BEGIN:VCALENDAR
VERSION:2.0
PRODID:-//The Mindfulness Society of Canada - ECPv5.10.0//NONSGML v1.0//EN
CALSCALE:GREGORIAN
METHOD:PUBLISH
X-WR-CALNAME:The Mindfulness Society of Canada
X-ORIGINAL-URL:https://themindfulnesssociety.ca
X-WR-CALDESC:Events for The Mindfulness Society of Canada
BEGIN:VTIMEZONE
TZID:America/Toronto
BEGIN:DAYLIGHT
TZOFFSETFROM:-0500
TZOFFSETTO:-0400
TZNAME:EDT
DTSTART:20250309T070000
END:DAYLIGHT
BEGIN:STANDARD
TZOFFSETFROM:-0400
TZOFFSETTO:-0500
TZNAME:EST
DTSTART:20251102T060000
END:STANDARD
END:VTIMEZONE
BEGIN:VEVENT
DTSTART;TZID=America/Toronto:20250810T090000
DTEND;TZID=America/Toronto:20250810T103000
DTSTAMP:20260424T022052
CREATED:20250717T125215Z
LAST-MODIFIED:20250717T125215Z
UID:751-1754816400-1754821800@themindfulnesssociety.ca
SUMMARY:9am Event - Ajahn Song from Thailand - Wisdom Coaching
DESCRIPTION:We will be welcoming Ajahn (Master) Song to teach us on the path to wisdom. He will teach in English from Thailand\, with a bit of help from Jess as needed. He is the youngest of Luangpor Pramote’s assitant teachers\, attaining enlightening wisdom after just four monks of Monkhood. He has returned to life as a family man and mindfulness teacher.  His teaching abilities are powerful and we look forward to a short talk followed by one on one coaching. If you have been practicing according to LP Pramote’s teachings daily for more than 3 months\, you are eligible to receive this very rare coaching opportunity. Email us to be put in the draw.
URL:https://themindfulnesssociety.ca/event/9am-event-ajahn-song-from-thailand-wisdom-coaching/
LOCATION:Zoom Meeting\, Canada
END:VEVENT
BEGIN:VEVENT
DTSTART;TZID=America/Toronto:20250817T200000
DTEND;TZID=America/Toronto:20250817T210000
DTSTAMP:20260424T022052
CREATED:20250717T125514Z
LAST-MODIFIED:20250717T125514Z
UID:753-1755460800-1755464400@themindfulnesssociety.ca
SUMMARY:Tales of Wisdom with Associate Instructor Susanna Fournier
DESCRIPTION:Susanna\, mindfulness instructor\, actor\, playwright and resident storyteller\, will tell tales from antiquity with valuable lessons relating to our lives and practices today.
URL:https://themindfulnesssociety.ca/event/tales-of-wisdom-with-associate-instructor-susanna-fournier/
LOCATION:Zoom Meeting\, Canada
END:VEVENT
BEGIN:VEVENT
DTSTART;TZID=America/Toronto:20250824T200000
DTEND;TZID=America/Toronto:20250824T210000
DTSTAMP:20260424T022052
CREATED:20250717T130131Z
LAST-MODIFIED:20250801T235524Z
UID:757-1756065600-1756069200@themindfulnesssociety.ca
SUMMARY:From Depression to Deva - Associate Instructor Karen's Success Story
DESCRIPTION:Join us for an emotional journey as Jenn interviews Karen about her experiences with mindfulness and its impact on the challenges in her life. Karen will share aspects of the practice which have helped her to navigate and shift situations in her life including a diagnosis of walking depression in her early 40’s. She will discuss\, letting go of painful memories and how Buddhist practices can help you to enhance and deepen relationships in your life.\nWe appreciate Karen for her sincerity and candidness regarding these personal aspects of her life. She hopes that in sharing her experiences she can help others to understand the importance of being a diligent practitioner and to see how it will help you to be a stronger\, kinder and more compassionate person in all aspects of your life.
URL:https://themindfulnesssociety.ca/event/from-depression-to-deva-associate-instructor-karens-success-story/
LOCATION:Zoom Meeting\, Canada
END:VEVENT
BEGIN:VEVENT
DTSTART;VALUE=DATE:20250831
DTEND;VALUE=DATE:20250901
DTSTAMP:20260424T022052
CREATED:20250717T125553Z
LAST-MODIFIED:20250717T131649Z
UID:755-1756598400-1756684799@themindfulnesssociety.ca
SUMMARY:Closed for Labour Day Weekend
DESCRIPTION:
URL:https://themindfulnesssociety.ca/event/closed-august-long-weekend/
END:VEVENT
END:VCALENDAR