BEGIN:VCALENDAR
VERSION:2.0
PRODID:-//The Mindfulness Society of Canada - ECPv5.10.0//NONSGML v1.0//EN
CALSCALE:GREGORIAN
METHOD:PUBLISH
X-WR-CALNAME:The Mindfulness Society of Canada
X-ORIGINAL-URL:https://themindfulnesssociety.ca
X-WR-CALDESC:Events for The Mindfulness Society of Canada
BEGIN:VTIMEZONE
TZID:America/Toronto
BEGIN:DAYLIGHT
TZOFFSETFROM:-0500
TZOFFSETTO:-0400
TZNAME:EDT
DTSTART:20250309T070000
END:DAYLIGHT
BEGIN:STANDARD
TZOFFSETFROM:-0400
TZOFFSETTO:-0500
TZNAME:EST
DTSTART:20251102T060000
END:STANDARD
END:VTIMEZONE
BEGIN:VEVENT
DTSTART;TZID=America/Toronto:20250907T200000
DTEND;TZID=America/Toronto:20250907T213000
DTSTAMP:20260424T040600
CREATED:20250717T131358Z
LAST-MODIFIED:20250717T131522Z
UID:763-1757275200-1757280600@themindfulnesssociety.ca
SUMMARY:The Joy of Ajahn Aoy\, a Master from Thailand
DESCRIPTION:Ajahn Aoy (pronounced like “Oy” or Oil without the “l” sound) is returning to give a talk about her experiences in mindfulness for insight and answer questions about your practice. She is fun\, funny\, jovial and a very down to earth lady. She will teach in English.  Please take these opportunities to learn with enlightened masters\, that are falling right into your lap..top. 🙂
URL:https://themindfulnesssociety.ca/event/the-joy-of-ajahn-aoy-a-master-from-thailand/
LOCATION:Zoom Meeting\, Canada
END:VEVENT
BEGIN:VEVENT
DTSTART;TZID=America/Toronto:20250914T200000
DTEND;TZID=America/Toronto:20250914T200000
DTSTAMP:20260424T040600
CREATED:20250717T130933Z
LAST-MODIFIED:20250717T130933Z
UID:761-1757880000-1757880000@themindfulnesssociety.ca
SUMMARY:Enlightened Masters - with Jess Koffman
DESCRIPTION:Whether you were able to attend or not\, Jess will summarize some of the key points we learned from the Masters of the last three months\, Ajahns Krit\, Song and Aoy. He will also explain the state of enlightenment they each have attained\, and what is left for them. Also\, Jess will add some broader perspectives and coaching with regards to each of their teachings\, and relating it back to our western minds.
URL:https://themindfulnesssociety.ca/event/enlightened-masters-with-jess-koffman/
LOCATION:Zoom Meeting\, Canada
END:VEVENT
BEGIN:VEVENT
DTSTART;TZID=America/Toronto:20250921T080000
DTEND;TZID=America/Toronto:20251001T170000
DTSTAMP:20260424T040600
CREATED:20250717T130317Z
LAST-MODIFIED:20250717T130317Z
UID:759-1758441600-1759338000@themindfulnesssociety.ca
SUMMARY:Closed For Two Weeks of Holidays\, Truth & Reconciliation
DESCRIPTION:
URL:https://themindfulnesssociety.ca/event/closed-for-two-weeks-of-holidays-truth-reconciliation/
END:VEVENT
END:VCALENDAR