BEGIN:VCALENDAR
VERSION:2.0
PRODID:-//The Mindfulness Society of Canada - ECPv5.10.0//NONSGML v1.0//EN
CALSCALE:GREGORIAN
METHOD:PUBLISH
X-WR-CALNAME:The Mindfulness Society of Canada
X-ORIGINAL-URL:https://themindfulnesssociety.ca
X-WR-CALDESC:Events for The Mindfulness Society of Canada
BEGIN:VTIMEZONE
TZID:America/Toronto
BEGIN:DAYLIGHT
TZOFFSETFROM:-0500
TZOFFSETTO:-0400
TZNAME:EDT
DTSTART:20250309T070000
END:DAYLIGHT
BEGIN:STANDARD
TZOFFSETFROM:-0400
TZOFFSETTO:-0500
TZNAME:EST
DTSTART:20251102T060000
END:STANDARD
END:VTIMEZONE
BEGIN:VEVENT
DTSTART;TZID=America/Toronto:20251207T200000
DTEND;TZID=America/Toronto:20251207T210000
DTSTAMP:20260424T084748
CREATED:20251024T032119Z
LAST-MODIFIED:20251024T032119Z
UID:779-1765137600-1765141200@themindfulnesssociety.ca
SUMMARY:Year End Group Meditation & Advice from All of Us
DESCRIPTION:Thank you for another successful year of the Mindfulness Society of Canada\, supporting good hearts and quality minds with the best teachings available\, for FREE and all around the world.  We will end the programming for the year with a group meditation on peace\, and we will have all the instructors present to each give a token of advice for all of us. 🙂 The floor will also be open for you to share your comments or any inspirational stories from the year of practicing meditation and mindfulness with our special teachers and community of great people. \nNext Year we Start January 4th with our annual new year Free Mindfulness course!
URL:https://themindfulnesssociety.ca/event/year-end-group-meditation-advice-from-all-of-us/
LOCATION:Zoom Meeting\, Canada
END:VEVENT
END:VCALENDAR